BEGIN:VCALENDAR
VERSION:2.0
PRODID:-//Tukios.com/
BEGIN:VEVENT
UID:e60f7146-c464-49b3-8d8f-28d2f330c16e@www.murphyparks.com
DTSTAMP:20260420T003921Z
DTSTART:20260424T160000Z
DTEND:20260424T170000Z
SUMMARY:Funeral Service
DESCRIPTION:
URL:https://www.murphyparks.com/obituaries/mikyla-montgomery
LOCATION: 703 S Harrison St  Shelbyville IN 46176
GEO:39.5186694;-85.7773569
END:VEVENT
END:VCALENDAR