BEGIN:VCALENDAR
VERSION:2.0
PRODID:-//Tukios.com/
BEGIN:VEVENT
UID:598166bc-dccb-46bc-b517-c84ef8bcdc23@www.murphyparks.com
DTSTAMP:20260420T004034Z
DTSTART:20260423T200000Z
DTEND:20260424T000000Z
SUMMARY:Visitation
DESCRIPTION:
URL:https://www.murphyparks.com/obituaries/mikyla-montgomery
LOCATION: 703 S Harrison St  Shelbyville IN 46176
GEO:39.5186694;-85.7773569
END:VEVENT
END:VCALENDAR