BEGIN:VCALENDAR
VERSION:2.0
PRODID:-//Tukios.com/
BEGIN:VEVENT
UID:aa7239a3-63e3-40b8-8849-34020cf8f93f@www.murphyparks.com
DTSTAMP:20260424T012912Z
DTSTART:20260430T200000Z
DTEND:20260501T000000Z
SUMMARY:Visitation
DESCRIPTION:
URL:https://www.murphyparks.com/obituaries/marlene-joyce-thomas-meyers
LOCATION: 703 S Harrison St  Shelbyville IN 46176
GEO:39.5186694;-85.7773569
END:VEVENT
END:VCALENDAR