BEGIN:VCALENDAR
VERSION:2.0
PRODID:-//Tukios.com/
BEGIN:VEVENT
UID:c5958586-6f9d-481a-aed5-47dce39fb0c0@www.murphyparks.com
DTSTAMP:20260424T013202Z
DTSTART:20260501T140000Z
DTEND:20260501T150000Z
SUMMARY:Funeral Service
DESCRIPTION:
URL:https://www.murphyparks.com/obituaries/marlene-joyce-thomas-meyers
LOCATION: 703 S Harrison St  Shelbyville IN 46176
GEO:39.5186694;-85.7773569
END:VEVENT
END:VCALENDAR