BEGIN:VCALENDAR
VERSION:2.0
PRODID:-//Tukios.com/
BEGIN:VEVENT
UID:531140f2-f81e-48bb-b98c-e075a670aba9@www.murphyparks.com
DTSTAMP:20260422T024650Z
DTSTART:20260424T210000Z
DTEND:20260424T220000Z
SUMMARY:Funeral Service
DESCRIPTION:
URL:https://www.murphyparks.com/obituaries/lonnie-a-anders
LOCATION: 703 S Harrison St  Shelbyville IN 46176
GEO:39.5186694;-85.7773569
END:VEVENT
END:VCALENDAR