BEGIN:VCALENDAR
VERSION:2.0
PRODID:-//Tukios.com/
BEGIN:VEVENT
UID:b50e5510-8bb9-42c5-968b-649367d83d32@www.murphyparks.com
DTSTAMP:20260422T024828Z
DTSTART:20260424T190000Z
DTEND:20260424T210000Z
SUMMARY:Visitation
DESCRIPTION:
URL:https://www.murphyparks.com/obituaries/lonnie-a-anders
LOCATION: 703 S Harrison St  Shelbyville IN 46176
GEO:39.5186694;-85.7773569
END:VEVENT
END:VCALENDAR