BEGIN:VCALENDAR
VERSION:2.0
PRODID:-//Tukios.com/
BEGIN:VEVENT
UID:8d81100d-fc0d-42d5-a868-00f2be395dc9@www.murphyparks.com
DTSTAMP:20260420T175217Z
DTSTART:20260426T220000Z
DTEND:20260426T230000Z
SUMMARY:Funeral Service
DESCRIPTION:
URL:https://www.murphyparks.com/obituaries/leslie-kahn
LOCATION:Murphy-Parks Funeral Services 703 S Harrison St  Shelbyville IN 
	46176
GEO:39.5186694;-85.7773569
END:VEVENT
END:VCALENDAR