BEGIN:VCALENDAR
VERSION:2.0
PRODID:-//Tukios.com/
BEGIN:VEVENT
UID:7f6b086a-73b3-44c3-8435-0e1ebb8290b4@www.murphyparks.com
DTSTAMP:20260420T174707Z
DTSTART:20260426T200000Z
DTEND:20260426T220000Z
SUMMARY:Visitation
DESCRIPTION:
URL:https://www.murphyparks.com/obituaries/leslie-kahn
LOCATION:Murphy-Parks Funeral Services 703 S Harrison St  Shelbyville IN 
	46176
GEO:39.5186694;-85.7773569
END:VEVENT
END:VCALENDAR