BEGIN:VCALENDAR
VERSION:2.0
PRODID:-//Tukios.com/
BEGIN:VEVENT
UID:f644583f-ffd7-4608-9bc9-a5ee188c2019@www.murphyparks.com
DTSTAMP:20260422T173657Z
DTSTART:20260425T190000Z
DTEND:20260425T200000Z
SUMMARY:Funeral Service
DESCRIPTION:
URL:https://www.murphyparks.com/obituaries/adalina-perez
LOCATION: 703 S Harrison St  Shelbyville IN 46176
GEO:39.5186694;-85.7773569
END:VEVENT
END:VCALENDAR